BEGIN:VCALENDAR
VERSION:2.0
PRODID:-//Zenová škola Kwan Um - ECPv6.15.20//NONSGML v1.0//EN
CALSCALE:GREGORIAN
METHOD:PUBLISH
X-ORIGINAL-URL:https://www.bratislavazen.sk
X-WR-CALDESC:Udalosti pre Zenová škola Kwan Um
REFRESH-INTERVAL;VALUE=DURATION:PT1H
X-Robots-Tag:noindex
X-PUBLISHED-TTL:PT1H
BEGIN:VTIMEZONE
TZID:Europe/Paris
BEGIN:DAYLIGHT
TZOFFSETFROM:+0100
TZOFFSETTO:+0200
TZNAME:CEST
DTSTART:20250330T010000
END:DAYLIGHT
BEGIN:STANDARD
TZOFFSETFROM:+0200
TZOFFSETTO:+0100
TZNAME:CET
DTSTART:20251026T010000
END:STANDARD
BEGIN:DAYLIGHT
TZOFFSETFROM:+0100
TZOFFSETTO:+0200
TZNAME:CEST
DTSTART:20260329T010000
END:DAYLIGHT
BEGIN:STANDARD
TZOFFSETFROM:+0200
TZOFFSETTO:+0100
TZNAME:CET
DTSTART:20261025T010000
END:STANDARD
BEGIN:DAYLIGHT
TZOFFSETFROM:+0100
TZOFFSETTO:+0200
TZNAME:CEST
DTSTART:20270328T010000
END:DAYLIGHT
BEGIN:STANDARD
TZOFFSETFROM:+0200
TZOFFSETTO:+0100
TZNAME:CET
DTSTART:20271031T010000
END:STANDARD
END:VTIMEZONE
BEGIN:VEVENT
DTSTART;VALUE=DATE:20260120
DTEND;VALUE=DATE:20260501
DTSTAMP:20260425T184102
CREATED:20260120T174751Z
LAST-MODIFIED:20260120T174857Z
UID:4819-1768867200-1777593599@www.bratislavazen.sk
SUMMARY:2% z dane pre rok 2025
DESCRIPTION:Aj tento rok máš možnosť prispieť 2 alebo 3 %-tami z dane z príjmu na podporu naších zenových centier.\nPreto by sme ťa chceli poprosiť o poskytnutie aj takejto formy podpory. \nBratislavské zenové centrum\nprávna forma: Občianske združenie\nnázov: Zenová škola Kwan Um Slovensko\nsídlo: Hanulova 5\, 841 01 Bratislava\nIČO: 36067458\nDetail pre BZC tu. \nKošické zenové centrum\nprávna forma: Občianske združenie\nnázov: Slovenská zenová škola Kwan Um Košice\nsídlo: Letná 10/43\, 04001 Košice – mestská časť Sever\nIČO: 31314511\nDetail pre KZC tu. \nTieto údaje vyplň\, prosím\, v spolupráci so svojím zamestnávateľom do príslušných tlačív\, ktoré od neho dostaneš.\nPodnikatelia a právnické osoby vpíšu údaje do políčok svojho daňového priznania.
URL:https://www.bratislavazen.sk/event/2-z-dane-pre-rok-2025/
LOCATION:BZC\, Hanulová 5\, Bratislava\, Slovakia (Slovak Republic)
ATTACH;FMTTYPE=image/png:https://www.bratislavazen.sk/wp-content/uploads/2025/02/unnamed-35.png
END:VEVENT
BEGIN:VEVENT
DTSTART;TZID=Europe/Paris:20260509T070000
DTEND;TZID=Europe/Paris:20260509T160000
DTSTAMP:20260425T184102
CREATED:20260208T184631Z
LAST-MODIFIED:20260413T174128Z
UID:4843-1778310000-1778342400@www.bratislavazen.sk
SUMMARY:BZC - Májový zenový deň
DESCRIPTION:Bratislavské zenové centrum Vás srdečne pozýva na zenový deň.\nMiesto: osobne v BZC / Online \nSedenie\, poklony\, spevy\, konganové rozhovory s majstrom dharmy Dušanom Silvášim. \nZenová prax je založená na meditačných technikách\, ktoré sa v buddhizme vyučujú už 2500 rokov. Skladá sa z poklôn\, sedenia\, spevov\, jedenia a práce\, pričom dôraz sa kladie na meditáciu v sede. Počas tohto dňa máte možnosť vyskúšať každú z týchto techník\, tak ako sú praktizované v štýle Zenovej školy Kwan Um. \nCena – osobne:\nČlen 30 €\nUčiteľ dharmy 25 €\nFanúšik: 50€ \nCena – online:\nČlen 20 €\nUčiteľ dharmy 17 €\nFanúšik: 33 € \nRegistrácia a informácie: https://forms.gle/dPCDHj8HBco4ea2D6
URL:https://www.bratislavazen.sk/event/bzc-majovy-zenovy-den-2026/
LOCATION:BZC\, Hanulová 5\, Bratislava\, Slovakia (Slovak Republic)
ATTACH;FMTTYPE=image/jpeg:https://www.bratislavazen.sk/wp-content/uploads/2025/12/IMG_0409-2-scaled.jpg
ORGANIZER;CN="BZC":MAILTO:bzc108@gmail.com
END:VEVENT
BEGIN:VEVENT
DTSTART;TZID=Europe/Paris:20260704T070000
DTEND;TZID=Europe/Paris:20260704T160000
DTSTAMP:20260425T184102
CREATED:20260208T184801Z
LAST-MODIFIED:20260208T184801Z
UID:4845-1783148400-1783180800@www.bratislavazen.sk
SUMMARY:BZC - Júlový zenový deň
DESCRIPTION:Ďalšie info čoskoro.
URL:https://www.bratislavazen.sk/event/bzc-julovy-zenovy-den-2/
LOCATION:BZC\, Hanulová 5\, Bratislava\, Slovakia (Slovak Republic)
ATTACH;FMTTYPE=image/jpeg:https://www.bratislavazen.sk/wp-content/uploads/2021/03/unnamed.jpg
ORGANIZER;CN="BZC":MAILTO:bzc108@gmail.com
END:VEVENT
END:VCALENDAR