BEGIN:VCALENDAR
VERSION:2.0
PRODID:-//Zenová škola Kwan Um - ECPv6.15.20//NONSGML v1.0//EN
CALSCALE:GREGORIAN
METHOD:PUBLISH
X-WR-CALNAME:Zenová škola Kwan Um
X-ORIGINAL-URL:https://www.bratislavazen.sk
X-WR-CALDESC:Udalosti pre Zenová škola Kwan Um
REFRESH-INTERVAL;VALUE=DURATION:PT1H
X-Robots-Tag:noindex
X-PUBLISHED-TTL:PT1H
BEGIN:VTIMEZONE
TZID:Europe/Paris
BEGIN:DAYLIGHT
TZOFFSETFROM:+0100
TZOFFSETTO:+0200
TZNAME:CEST
DTSTART:20240331T010000
END:DAYLIGHT
BEGIN:STANDARD
TZOFFSETFROM:+0200
TZOFFSETTO:+0100
TZNAME:CET
DTSTART:20241027T010000
END:STANDARD
BEGIN:DAYLIGHT
TZOFFSETFROM:+0100
TZOFFSETTO:+0200
TZNAME:CEST
DTSTART:20250330T010000
END:DAYLIGHT
BEGIN:STANDARD
TZOFFSETFROM:+0200
TZOFFSETTO:+0100
TZNAME:CET
DTSTART:20251026T010000
END:STANDARD
BEGIN:DAYLIGHT
TZOFFSETFROM:+0100
TZOFFSETTO:+0200
TZNAME:CEST
DTSTART:20260329T010000
END:DAYLIGHT
BEGIN:STANDARD
TZOFFSETFROM:+0200
TZOFFSETTO:+0100
TZNAME:CET
DTSTART:20261025T010000
END:STANDARD
BEGIN:DAYLIGHT
TZOFFSETFROM:+0100
TZOFFSETTO:+0200
TZNAME:CEST
DTSTART:20270328T010000
END:DAYLIGHT
BEGIN:STANDARD
TZOFFSETFROM:+0200
TZOFFSETTO:+0100
TZNAME:CET
DTSTART:20271031T010000
END:STANDARD
END:VTIMEZONE
BEGIN:VEVENT
DTSTART;TZID=Europe/Paris:20260206T183000
DTEND;TZID=Europe/Paris:20260208T130000
DTSTAMP:20260426T033005
CREATED:20251211T165425Z
LAST-MODIFIED:20260109T180928Z
UID:4790-1770402600-1770555600@www.bratislavazen.sk
SUMMARY:Zenové ústranie | Zen Retreat (Február 2026)
DESCRIPTION:Bratislavské zenové centrum Vás srdečne pozýva na Jong Meng Džong Džin (zenové meditačné ústranie) pod vedením majstra dharmy Dušana Silvášiho JDPSN.\nViac detailov a registrácia v pozvánke. \nBratislava Zen Center cordially invites you to the Yong Maeng Jong Jin (Zen Meditation Retreat)\, under the direction of Dharma Master Dušan Silváši.\nMore detail and registration here.
URL:https://www.bratislavazen.sk/event/zenove-ustranie-zen-retreat-februar-2026/
LOCATION:BZC\, Hanulová 5\, Bratislava\, Slovakia (Slovak Republic)
ATTACH;FMTTYPE=image/jpeg:https://www.bratislavazen.sk/wp-content/uploads/2025/02/unnamed-62.jpg
END:VEVENT
BEGIN:VEVENT
DTSTART;TZID=Europe/Paris:20260110T070000
DTEND;TZID=Europe/Paris:20260110T160000
DTSTAMP:20260426T033005
CREATED:20251211T170925Z
LAST-MODIFIED:20260105T161446Z
UID:4792-1768028400-1768060800@www.bratislavazen.sk
SUMMARY:Pracovný zenový deň - január 2026
DESCRIPTION:Pracovný zenový deň osobne v zenovom centre príp. online.\nOd 7:00 do 16:00. \nPríď najneskôr 6:50\, pripoj sa najneskôr o 6:55.\nSedenie\, poklony\, spevy a tentokrát viac práce. \nCena – osobne:\nČlen 24 €\nUčiteľ dharmy 32 €\nFanúšik: 40 € \nCena – online:\nČlen 16 €\nUčiteľ dharmy 21 €\nFanúšik: 26 € \nRegistrácia a informácie:\nhttps://forms.gle/jc8CyKaBuiWghx9LA \nAk si nový študent\, napíš email na: bzc108@gmail.com
URL:https://www.bratislavazen.sk/event/januarovy-zenovy-den-2026/
LOCATION:BZC\, Hanulová 5\, Bratislava\, Slovakia (Slovak Republic)
ATTACH;FMTTYPE=image/jpeg:https://www.bratislavazen.sk/wp-content/uploads/2025/12/IMG_0409-2-scaled.jpg
END:VEVENT
BEGIN:VEVENT
DTSTART;TZID=Europe/Paris:20251205T183000
DTEND;TZID=Europe/Paris:20251207T140000
DTSTAMP:20260426T033005
CREATED:20251030T184128Z
LAST-MODIFIED:20251030T184128Z
UID:4760-1764959400-1765116000@www.bratislavazen.sk
SUMMARY:Zenové ústranie | Zen Retreat (December)
DESCRIPTION:Viac info čoskoro.
URL:https://www.bratislavazen.sk/event/zenove-ustranie-zen-retreat-december/
ATTACH;FMTTYPE=image/jpeg:https://www.bratislavazen.sk/wp-content/uploads/2025/08/aaasssddd.jpg
END:VEVENT
BEGIN:VEVENT
DTSTART;TZID=Europe/Paris:20251201T180000
DTEND;TZID=Europe/Paris:20251201T190000
DTSTAMP:20260426T033005
CREATED:20251030T185017Z
LAST-MODIFIED:20251030T185017Z
UID:4765-1764612000-1764615600@www.bratislavazen.sk
SUMMARY:ONLINE Úvod do zenu - December
DESCRIPTION:Viac info čoskoro.
URL:https://www.bratislavazen.sk/event/online-uvod-do-zenu-december/
LOCATION:Zoom
ATTACH;FMTTYPE=image/jpeg:https://www.bratislavazen.sk/wp-content/uploads/2025/08/uvod-zen.jpeg
ORGANIZER;CN="BZC":MAILTO:bzc108@gmail.com
END:VEVENT
BEGIN:VEVENT
DTSTART;TZID=Europe/Paris:20251108T070000
DTEND;TZID=Europe/Paris:20251108T160000
DTSTAMP:20260426T033005
CREATED:20251014T143635Z
LAST-MODIFIED:20251028T151303Z
UID:4744-1762585200-1762617600@www.bratislavazen.sk
SUMMARY:BZC - Novembrový zenový deň
DESCRIPTION:Bratislavské zenové centrum Vás srdečne pozýva na zenový deň.\nMiesto: osobne v BZC / Online \nSedenie\, poklony\, spevy\, konganové rozhovory s majstrom dharmy Dušanom Silvášim. \nZenová prax je založená na meditačných technikách\, ktoré sa v buddhizme vyučujú už 2500 rokov. Skladá sa z poklôn\, sedenia\, spevov\, jedenia a práce\, pričom dôraz sa kladie na meditáciu v sede. Počas tohto dňa máte možnosť vyskúšať každú z týchto techník\, tak ako sú praktizované v štýle Zenovej školy Kwan Um. \nCena – osobne:\nUčiteľ dharmy 30 €\nČlen 40 €\nFanúšik: 50€ \nCena – online:\nUčiteľ dharmy 20 €\nČlen 26 €\nFanúšik: 33 € \nRegistrácia: https://forms.gle/UMZMkYE4upAYU8Fw7
URL:https://www.bratislavazen.sk/event/bzc-novembrovy-zenovy-den/
LOCATION:BZC\, Hanulová 5\, Bratislava\, Slovakia (Slovak Republic)
ATTACH;FMTTYPE=image/jpeg:https://www.bratislavazen.sk/wp-content/uploads/2021/03/unnamed.jpg
ORGANIZER;CN="BZC":MAILTO:bzc108@gmail.com
END:VEVENT
BEGIN:VEVENT
DTSTART;TZID=Europe/Paris:20251103T180000
DTEND;TZID=Europe/Paris:20251103T190000
DTSTAMP:20260426T033005
CREATED:20251030T184756Z
LAST-MODIFIED:20251030T184756Z
UID:4762-1762192800-1762196400@www.bratislavazen.sk
SUMMARY:ONLINE Úvod do zenu - November
DESCRIPTION:Ponúkame ti možnosť zúčastniť sa ONLINE Úvodu do zenu – vhodný je najmä pre tých\, ktorí sa nemôžu zúčastniť úvodu do zenu osobne v zenovom centre.\nNaučíme sa základné formy a ich implementáciu do každodennej zenovej praxe.\nPrihlás sa na náš zoom aspoň 5 minút pred začiatkom.\nVstupné/výstupné: dobrovoľné
URL:https://www.bratislavazen.sk/event/online-uvod-do-zenu-november/
LOCATION:Zoom
ATTACH;FMTTYPE=image/jpeg:https://www.bratislavazen.sk/wp-content/uploads/2025/10/542751578_122165604656592231_7925906226343514650_n.jpg
ORGANIZER;CN="BZC":MAILTO:bzc108@gmail.com
END:VEVENT
BEGIN:VEVENT
DTSTART;TZID=Europe/Paris:20251010T183000
DTEND;TZID=Europe/Paris:20251012T140000
DTSTAMP:20260426T033005
CREATED:20250818T150926Z
LAST-MODIFIED:20250818T150926Z
UID:4679-1760121000-1760277600@www.bratislavazen.sk
SUMMARY:Zenové ústranie | Zen Retreat (Október)
DESCRIPTION:Viac info a registrácia tu.
URL:https://www.bratislavazen.sk/event/zenove-ustranie-zen-retreat-oktober/
ATTACH;FMTTYPE=image/jpeg:https://www.bratislavazen.sk/wp-content/uploads/2025/08/aaasssddd.jpg
END:VEVENT
BEGIN:VEVENT
DTSTART;TZID=Europe/Paris:20250906T070000
DTEND;TZID=Europe/Paris:20250906T160000
DTSTAMP:20260426T033005
CREATED:20250818T150454Z
LAST-MODIFIED:20250818T150454Z
UID:4677-1757142000-1757174400@www.bratislavazen.sk
SUMMARY:BZC - Septembrový zenový deň
DESCRIPTION:Bratislavské zenové centrum Vás srdečne pozýva na zenový deň.\nMiesto: osobne v BZC / Online \nSedenie\, poklony\, spevy\, konganové rozhovory s majstrom dharmy Dušanom Silvášim. \nZenová prax je založená na meditačných technikách\, ktoré sa v buddhizme vyučujú už 2500 rokov. Skladá sa z poklôn\, sedenia\, spevov\, jedenia a práce\, pričom dôraz sa kladie na meditáciu v sede. Počas tohto dňa máte možnosť vyskúšať každú z týchto techník\, tak ako sú praktizované v štýle Zenovej školy Kwan Um. \nCena – osobne:\nČlen 30 €\nUčiteľ dharmy 25 €\nFanúšik: 50€ \nCena – online:\nČlen 20 €\nUčiteľ dharmy 17 €\nFanúšik: 33 € \nRegistrácia: https://forms.gle/hTrEwVNeBmzcNjZK7
URL:https://www.bratislavazen.sk/event/bzc-septembrovy-zenovy-den/
LOCATION:BZC\, Hanulová 5\, Bratislava\, Slovakia (Slovak Republic)
ATTACH;FMTTYPE=image/jpeg:https://www.bratislavazen.sk/wp-content/uploads/2021/03/unnamed.jpg
ORGANIZER;CN="BZC":MAILTO:bzc108@gmail.com
END:VEVENT
BEGIN:VEVENT
DTSTART;TZID=Europe/Paris:20250804T180000
DTEND;TZID=Europe/Paris:20250804T190000
DTSTAMP:20260426T033005
CREATED:20250804T100854Z
LAST-MODIFIED:20250811T073426Z
UID:4662-1754330400-1754334000@www.bratislavazen.sk
SUMMARY:ONLINE Úvod do zenu
DESCRIPTION:Ponúkame ti možnosť zúčastniť sa ONLINE Úvodu do zenu – vhodný je najmä pre tých\, ktorí sa nemôžu zúčastniť úvodu do zenu osobne v zenovom centre.\nNaučíme sa základné formy a ich implementáciu do každodennej zenovej praxe.\nPrihlás sa na náš zoom aspoň 5 minút pred začiatkom.\nVstupné/výstupné: dobrovoľné
URL:https://www.bratislavazen.sk/event/online-uvod-do-zenu/
LOCATION:Zoom
ATTACH;FMTTYPE=image/jpeg:https://www.bratislavazen.sk/wp-content/uploads/2025/08/uvod-zen.jpeg
ORGANIZER;CN="BZC":MAILTO:bzc108@gmail.com
END:VEVENT
BEGIN:VEVENT
DTSTART;TZID=Europe/Paris:20250705T070000
DTEND;TZID=Europe/Paris:20250705T160000
DTSTAMP:20260426T033005
CREATED:20250606T122215Z
LAST-MODIFIED:20250609T075130Z
UID:4632-1751698800-1751731200@www.bratislavazen.sk
SUMMARY:BZC - Júlový zenový deň
DESCRIPTION:Bratislavské zenové centrum Vás srdečne pozýva na zenový deň.\nMiesto: osobne v BZC / Online \nSedenie\, poklony\, spevy\, konganové rozhovory s majstrom dharmy Dušanom Silvášim. \nZenová prax je založená na meditačných technikách\, ktoré sa v buddhizme vyučujú už 2500 rokov. Skladá sa z poklôn\, sedenia\, spevov\, jedenia a práce\, pričom dôraz sa kladie na meditáciu v sede. Počas tohto dňa máte možnosť vyskúšať každú z týchto techník\, tak ako sú praktizované v štýle Zenovej školy Kwan Um. \nCena – osobne:\nČlen 30 €\nUčiteľ dharmy 25 €\nFanúšik: 50€ \nCena – online:\nČlen 20 €\nUčiteľ dharmy 17 €\nFanúšik: 33 € \nRegistrácia: https://forms.gle/e3XusjZbvfdcGQeT8
URL:https://www.bratislavazen.sk/event/bzc-julovy-zenovy-den/
LOCATION:BZC\, Hanulová 5\, Bratislava\, Slovakia (Slovak Republic)
ATTACH;FMTTYPE=image/jpeg:https://www.bratislavazen.sk/wp-content/uploads/2021/03/unnamed.jpg
ORGANIZER;CN="BZC":MAILTO:bzc108@gmail.com
END:VEVENT
BEGIN:VEVENT
DTSTART;TZID=Europe/Paris:20250623T200000
DTEND;TZID=Europe/Paris:20250629T180000
DTSTAMP:20260426T033005
CREATED:20250424T162707Z
LAST-MODIFIED:20250519T133559Z
UID:4609-1750708800-1751220000@www.bratislavazen.sk
SUMMARY:Týždenné meditačné ústranie s majstom dharmy Jiřím Hazlbauerom
DESCRIPTION:Viac info tu.
URL:https://www.bratislavazen.sk/event/tyzdenne-meditacne-ustranie-so-zenovym-majstom-dae-kwangom/
LOCATION:Vrážné Zen Center\, Vrážné 3\, Vrážné\, 569 43\, Czech Republic
ATTACH;FMTTYPE=image/jpeg:https://www.bratislavazen.sk/wp-content/uploads/2025/04/VZC_SvenMahr_20150621-0342svenmahrsinKonfliktstehendeKopie2018-07-25.jpg
ORGANIZER;CN="BZC":MAILTO:bzc108@gmail.com
END:VEVENT
BEGIN:VEVENT
DTSTART;TZID=Europe/Paris:20250607T070000
DTEND;TZID=Europe/Paris:20250607T160000
DTSTAMP:20260426T033005
CREATED:20250519T133355Z
LAST-MODIFIED:20250606T121940Z
UID:4620-1749279600-1749312000@www.bratislavazen.sk
SUMMARY:BZC - Júnový zenový deň - ZRUŠENÝ
DESCRIPTION:
URL:https://www.bratislavazen.sk/event/bzc-junovy-zenovy-den/
LOCATION:BZC\, Hanulová 5\, Bratislava\, Slovakia (Slovak Republic)
ATTACH;FMTTYPE=image/jpeg:https://www.bratislavazen.sk/wp-content/uploads/2025/02/unnamed-62.jpg
ORGANIZER;CN="BZC":MAILTO:bzc108@gmail.com
END:VEVENT
BEGIN:VEVENT
DTSTART;TZID=Europe/Paris:20250510T070000
DTEND;TZID=Europe/Paris:20250510T160000
DTSTAMP:20260426T033005
CREATED:20250413T135648Z
LAST-MODIFIED:20250421T152232Z
UID:4584-1746860400-1746892800@www.bratislavazen.sk
SUMMARY:BZC - Májový zenový deň
DESCRIPTION:Bratislavské zenové centrum Vás srdečne pozýva na zenový deň.\nMiesto: osobne v BZC / Online \nSedenie\, poklony\, spevy\, konganové rozhovory s majstrom dharmy Dušanom Silvášim. \nZenová prax je založená na meditačných technikách\, ktoré sa v buddhizme vyučujú už 2500 rokov. Skladá sa z poklôn\, sedenia\, spevov\, jedenia a práce\, pričom dôraz sa kladie na meditáciu v sede. Počas tohto dňa máte možnosť vyskúšať každú z týchto techník\, tak ako sú praktizované v štýle Zenovej školy Kwan Um. \nCena – osobne:\nČlen 30 €\nUčiteľ dharmy 25 €\nFanúšik: 50€ \nCena – online:\nČlen 20 €\nUčiteľ dharmy 17 €\nFanúšik: 33 € \nRegistrácia a informácie: https://forms.gle/63hEmf41WgaDAp7C7
URL:https://www.bratislavazen.sk/event/bzc-majovy-zenovy-den/
LOCATION:BZC\, Hanulová 5\, Bratislava\, Slovakia (Slovak Republic)
ATTACH;FMTTYPE=image/png:https://www.bratislavazen.sk/wp-content/uploads/2025/04/IMG_8267.png
ORGANIZER;CN="BZC":MAILTO:bzc108@gmail.com
END:VEVENT
BEGIN:VEVENT
DTSTART;TZID=Europe/Paris:20250412T180000
DTEND;TZID=Europe/Paris:20250412T180000
DTSTAMP:20260426T033005
CREATED:20250212T112832Z
LAST-MODIFIED:20250404T115455Z
UID:4508-1744480800-1744480800@www.bratislavazen.sk
SUMMARY:Zenový deň | Zen Day (Apríl 2025)
DESCRIPTION:Bratislavské zenové centrum Vás srdečne pozýva na zenový deň s online konganovými rozhovormi so zenovým majstrom Joeng Hye SSN (Andrzej Piotrowski\, hlavný zenový majster pre celú Európu).\nViac detailov v pozvánke. \nBratislava Zen Center cordially invites you to the Zen Day with online kongan interview with Zen master Joeng Hye SSN (Andrzej Piotrowski).\nMore details in the invitation mail.
URL:https://www.bratislavazen.sk/event/zenove-ustranie-zen-retreat-april-2025/
LOCATION:BZC\, Hanulová 5\, Bratislava\, Slovakia (Slovak Republic)
ATTACH;FMTTYPE=image/jpeg:https://www.bratislavazen.sk/wp-content/uploads/2025/02/unnamed-62.jpg
ORGANIZER;CN="BZC":MAILTO:bzc108@gmail.com
END:VEVENT
BEGIN:VEVENT
DTSTART;TZID=Europe/Paris:20250329T100000
DTEND;TZID=Europe/Paris:20250329T160000
DTSTAMP:20260426T033005
CREATED:20250223T070732Z
LAST-MODIFIED:20250228T083907Z
UID:4523-1743242400-1743264000@www.bratislavazen.sk
SUMMARY:Marcový zenový deň - Piešťanská zenová skupina
DESCRIPTION:Piešťanská zenová skupina vás pozýva na jednodňové ústranie JMDD\, ktoré prebehne s pozvaným majstrom dharmy Jiřím Hazlbauerom\, opátom kláštora zenovej školy Kwan\nUm v ČR.\nSedenie\, spevy a konganové rozhovory s majstrom dharmy Jiřím Hazlbauerom. \nCena: 35 € \nRegistrácia a informácie:\nhttps://forms.gle/bsy9aCE6jkMZ5b6K6 \nPo skončení ústrania bude možné sa pridať k Jirkovi na kúpeľ dharmy do zrkadliska a bahniska 🙂 Po procedúre\, ktorá trvá tak 40min\, sa bude možné presunúť na kus reči do reštaurácie Žiwell.
URL:https://www.bratislavazen.sk/event/pzg-marcovy-zenovy-den/
LOCATION:Hotel Leier\, Winterova 1\, Piešťany\, Slovakia (Slovak Republic)
ATTACH;FMTTYPE=image/jpeg:https://www.bratislavazen.sk/wp-content/uploads/2025/02/Jednodnove-ustranie.jpg
END:VEVENT
BEGIN:VEVENT
DTSTART;TZID=Europe/Paris:20250308T070000
DTEND;TZID=Europe/Paris:20250308T160000
DTSTAMP:20260426T033005
CREATED:20250119T155856Z
LAST-MODIFIED:20250223T064209Z
UID:4017-1741417200-1741449600@www.bratislavazen.sk
SUMMARY:BZC - Marcový zenový deň
DESCRIPTION:Bratislavské zenové centrum Vás srdečne pozýva na zenový deň.\nMiesto: osobne v BZC / Online \nSedenie\, poklony\, spevy\, konganové rozhovory s majstrom dharmy Dušanom Silvášim. \nZenová prax je založená na meditačných technikách\, ktoré sa v buddhizme vyučujú už 2500 rokov. Skladá sa z poklôn\, sedenia\, spevov\, jedenia a práce\, pričom dôraz sa kladie na meditáciu v sede. Počas tohto dňa máte možnosť vyskúšať každú z týchto techník\, tak ako sú praktizované v štýle Zenovej školy Kwan Um. \nCena – osobne:\nČlen 30 €\nUčiteľ dharmy 25 €\nFanúšik: 50€ \nCena – online:\nČlen 20 €\nUčiteľ dharmy 17 €\nFanúšik: 33 € \nRegistrácia a informácie:\nhttps://forms.gle/yb2p4CrwhwvigGT36
URL:https://www.bratislavazen.sk/event/bzc-marcovy-zenovy-den/
LOCATION:BZC\, Hanulová 5\, Bratislava\, Slovakia (Slovak Republic)
ATTACH;FMTTYPE=image/jpeg:https://www.bratislavazen.sk/wp-content/uploads/2025/01/471680711_903390945286114_1500051328215527115_n.jpg
ORGANIZER;CN="BZC":MAILTO:bzc108@gmail.com
END:VEVENT
BEGIN:VEVENT
DTSTART;VALUE=DATE:20250212
DTEND;VALUE=DATE:20250501
DTSTAMP:20260426T033005
CREATED:20250212T112017Z
LAST-MODIFIED:20250424T161217Z
UID:4501-1739318400-1746057599@www.bratislavazen.sk
SUMMARY:2% z dane pre rok 2024
DESCRIPTION:Aj tento rok máš možnosť prispieť 2 alebo 3 %-tami z dane z príjmu na podporu naších zenových centier.\nPreto by sme ťa chceli poprosiť o poskytnutie aj takejto formy podpory. \nBratislavské zenové centrum\nprávna forma: Občianske združenie\nnázov: Zenová škola Kwan Um Slovensko\nsídlo: Hanulova 5\, 841 01 Bratislava\nIČO: 36067458\nDetail pre BZC tu. \nKošické zenové centrum\nprávna forma: Občianske združenie\nnázov: Slovenská zenová škola Kwan Um Košice\nsídlo: Letná 10/43\, 04001 Košice – mestská časť Sever\nIČO: 31314511\nDetail pre KZC tu. \nTieto údaje vyplň\, prosím\, v spolupráci so svojím zamestnávateľom do príslušných tlačív\, ktoré od neho dostaneš.\nPodnikatelia a právnické osoby vpíšu údaje do políčok svojho daňového priznania.
URL:https://www.bratislavazen.sk/event/2-percenta-z-dane/
LOCATION:BZC\, Hanulová 5\, Bratislava\, Slovakia (Slovak Republic)
ATTACH;FMTTYPE=image/png:https://www.bratislavazen.sk/wp-content/uploads/2025/02/unnamed-35.png
END:VEVENT
BEGIN:VEVENT
DTSTART;TZID=Europe/Paris:20250207T183000
DTEND;TZID=Europe/Paris:20250209T130000
DTSTAMP:20260426T033005
CREATED:20250102T081055Z
LAST-MODIFIED:20250112T065446Z
UID:3390-1738953000-1739106000@www.bratislavazen.sk
SUMMARY:Zenové ústranie | Zen Retreat (Február 2025)
DESCRIPTION:Bratislavské zenové centrum Vás srdečne pozýva na Jong Meng Džong Džin (zenové meditačné ústranie) pod vedením majstra dharmy Dušana Silvášiho JDPSN.\nViac detailov v pozvánke.
URL:https://www.bratislavazen.sk/event/zenove-ustranie-zen-retreat-februar-2025/
LOCATION:BZC\, Hanulová 5\, Bratislava\, Slovakia (Slovak Republic)
ATTACH;FMTTYPE=image/jpeg:https://www.bratislavazen.sk/wp-content/uploads/2025/01/417502860_691366876488523_1302546367300335144_n.jpg
END:VEVENT
BEGIN:VEVENT
DTSTART;TZID=Europe/Paris:20250111T070000
DTEND;TZID=Europe/Paris:20250111T160000
DTSTAMP:20260426T033005
CREATED:20250102T080139Z
LAST-MODIFIED:20250102T080139Z
UID:3385-1736578800-1736611200@www.bratislavazen.sk
SUMMARY:Januárový zenový deň
DESCRIPTION:Zenový deň osobne v zenovom centre príp. online.\nOd 7:00 do 16:00. \nPríď najneskôr 6:50\, pripoj sa najneskôr o 6:55.\nSedenie\, poklony\, spevy\, konganové rozhovory s majstrom dharmy Dušanom Silvášim. \nCena – osobne:\nČlen 30 €\nUčiteľ dharmy 25 €\nFanúšik: 50€ \nCena – online:\nČlen 20 €\nUčiteľ dharmy 17 €\nFanúšik: 33 € \nRegistrácia a informácie:\nhttps://bit.ly/3BYNMnf \nAk si nový študent\, napíš email na: bzc108@gmail.com
URL:https://www.bratislavazen.sk/event/januarovy-zenovy-den/
LOCATION:BZC\, Hanulová 5\, Bratislava\, Slovakia (Slovak Republic)
ATTACH;FMTTYPE=image/jpeg:https://www.bratislavazen.sk/wp-content/uploads/2025/01/471680711_903390945286114_1500051328215527115_n.jpg
END:VEVENT
END:VCALENDAR